BEGIN:VCALENDAR
VERSION:2.0
METHOD:PUBLISH
X-WR-CALNAME:James's GUFF Trip |  August 31 2010- September 30 2010
PRODID:-//strange bird labs//Drupal iCal API//EN
BEGIN:VEVENT
DTSTAMP;VALUE=DATE-TIME:20260419T184720Z
DTSTART;VALUE=DATE-TIME:20100831T020000Z
DTEND;VALUE=DATE-TIME:20100831T020000Z
UID:http://guff.lostcarpark.com/content/depart-wellington-nz
URL;VALUE=URI:http://guff.lostcarpark.com/content/depart-wellington-nz
SUMMARY:Depart Wellington\, NZ
END:VEVENT
BEGIN:VEVENT
DTSTAMP;VALUE=DATE-TIME:20260419T184720Z
DTSTART;VALUE=DATE-TIME:20100831T070500Z
DTEND;VALUE=DATE-TIME:20100831T070500Z
UID:http://guff.lostcarpark.com/content/arrive-melbourne
URL;VALUE=URI:http://guff.lostcarpark.com/content/arrive-melbourne
SUMMARY:Arrive Melbourne
END:VEVENT
BEGIN:VEVENT
DTSTAMP;VALUE=DATE-TIME:20260419T184720Z
DTSTART;VALUE=DATE-TIME:20100831T162400Z
DTEND;VALUE=DATE-TIME:20020203
UID:http://guff.lostcarpark.com/content/james-melbourne
URL;VALUE=URI:http://guff.lostcarpark.com/content/james-melbourne
SUMMARY:James in Melbourne
END:VEVENT
BEGIN:VEVENT
DTSTAMP;VALUE=DATE-TIME:20260419T184720Z
DTSTART;VALUE=DATE-TIME:20100901T083000Z
DTEND;VALUE=DATE-TIME:20100901T083000Z
UID:http://guff.lostcarpark.com/content/fe%C3%B2rags-pub-crawl
URL;VALUE=URI:http://guff.lostcarpark.com/content/fe%C3%B2rags-pub-crawl
SUMMARY:Feòrag's Pub Crawl
DESCRIPTION:n/a
END:VEVENT
BEGIN:VEVENT
DTSTAMP;VALUE=DATE-TIME:20260419T184720Z
DTSTART;VALUE=DATE-TIME:20100902T000000Z
DTEND;VALUE=DATE-TIME:20100906T080000Z
UID:http://guff.lostcarpark.com/content/aussiecon-four
URL;VALUE=URI:http://guff.lostcarpark.com/content/aussiecon-four
SUMMARY:Aussiecon Four
DESCRIPTION:<p>The 68th World Science Fiction Convention will be held 2-6 September 2010 at the Melbourne Convention and Exhibition Centre.  Our Guests of Honour are Hugo-winning author Kim Stanley Robinson\, award-winning Melbourne artist Shaun Tan\, and dedicated fan Robin Johnson.  Melbourne has also hosted Worldcons in 1975\, 1985\, and 1999.</p>
 
END:VEVENT
BEGIN:VEVENT
DTSTAMP;VALUE=DATE-TIME:20260419T184720Z
DTSTART;VALUE=DATE-TIME:20100902T060000Z
DTEND;VALUE=DATE-TIME:20100902T070000Z
UID:http://guff.lostcarpark.com/content/minotaurs-space-helmets-using-myth-science-fiction
URL;VALUE=URI:http://guff.lostcarpark.com/content/minotaurs-space-helmets-using-myth-science-fiction
SUMMARY:Minotaurs in space helmets\: Using myth in science fiction
DESCRIPTION:<p>What use are the myths of the world’s cultures to the creation of science fiction? Are there archetypal stories we can draw from to create new worlds and ideas\, or are they best suited for re-telling classical stories with a high-tech or otherworldly perspective? A look at what’s been done\, who did it best\, and why.<br />
 Thursday 1600 Room 219</p>
 
END:VEVENT
BEGIN:VEVENT
DTSTAMP;VALUE=DATE-TIME:20260419T184720Z
DTSTART;VALUE=DATE-TIME:20100903T020000Z
DTEND;VALUE=DATE-TIME:20100903T030000Z
UID:http://guff.lostcarpark.com/content/wtf-are-duff-guff-and-it-all-naff
URL;VALUE=URI:http://guff.lostcarpark.com/content/wtf-are-duff-guff-and-it-all-naff
SUMMARY:WTF are DUFF\, GUFF and is it all NAFF?
DESCRIPTION:<p>Interested in the chance to have your overseas conventioning subsidized by the kind folk in fandom? Find out from current and past winners how Fan Funds work.<br />
 Friday 1200 Room 215</p>
 
END:VEVENT
BEGIN:VEVENT
DTSTAMP;VALUE=DATE-TIME:20260419T184720Z
DTSTART;VALUE=DATE-TIME:20100903T030000Z
DTEND;VALUE=DATE-TIME:20100903T040000Z
UID:http://guff.lostcarpark.com/content/ghosts-without-borders
URL;VALUE=URI:http://guff.lostcarpark.com/content/ghosts-without-borders
SUMMARY:Ghosts without borders
DESCRIPTION:<p>One form of folklore that crosses cultures with remarkable similarities is ghost stories\, which indicates they may actually exist. Our international panelists share their haunting experiences or assembled collections. Can you add to them?<br />
 Friday 1300 Room 219</p>
 
END:VEVENT
BEGIN:VEVENT
DTSTAMP;VALUE=DATE-TIME:20260419T184720Z
DTSTART;VALUE=DATE-TIME:20100903T060000Z
DTEND;VALUE=DATE-TIME:20100903T070000Z
UID:http://guff.lostcarpark.com/content/fan-fund-auction
URL;VALUE=URI:http://guff.lostcarpark.com/content/fan-fund-auction
SUMMARY:Fan fund auction
DESCRIPTION:<p>Come and bid on stuff to raise money so that we can send other fans on amazing trips.<br />
 Friday 1600 Room 210</p>
 
END:VEVENT
BEGIN:VEVENT
DTSTAMP;VALUE=DATE-TIME:20260419T184720Z
DTSTART;VALUE=DATE-TIME:20100903T093000Z
DTEND;VALUE=DATE-TIME:20100903T093000Z
UID:http://guff.lostcarpark.com/content/london-2014-bid-party-tbc
URL;VALUE=URI:http://guff.lostcarpark.com/content/london-2014-bid-party-tbc
SUMMARY:London 2014 Bid Party (TBC)
DESCRIPTION:<p>Party to promote the London 2014 Worldcon bid.</p>
 
END:VEVENT
BEGIN:VEVENT
DTSTAMP;VALUE=DATE-TIME:20260419T184720Z
DTSTART;VALUE=DATE-TIME:20100904T020000Z
DTEND;VALUE=DATE-TIME:20100904T030000Z
UID:http://guff.lostcarpark.com/content/build-lego-dalek-kids
URL;VALUE=URI:http://guff.lostcarpark.com/content/build-lego-dalek-kids
SUMMARY:Build a LEGO Dalek (for kids)
DESCRIPTION:<p>Learn how to build a Dalek model out of LEGO. This is a GUFF fundraiser.<br />
 James Shield\, Sue Ann Barber<br />
 Saturday 1200 Room 209</p>
 
END:VEVENT
BEGIN:VEVENT
DTSTAMP;VALUE=DATE-TIME:20260419T184720Z
DTSTART;VALUE=DATE-TIME:20100904T093000Z
DTEND;VALUE=DATE-TIME:20100904T093000Z
UID:http://guff.lostcarpark.com/content/uk-and-ireland-party-tbc
URL;VALUE=URI:http://guff.lostcarpark.com/content/uk-and-ireland-party-tbc
SUMMARY:UK and Ireland Party (TBC)
DESCRIPTION:<p>Party hosted by UK and Irish fans.</p>
 
END:VEVENT
BEGIN:VEVENT
DTSTAMP;VALUE=DATE-TIME:20260419T184720Z
DTSTART;VALUE=DATE-TIME:20100905T040000Z
DTEND;VALUE=DATE-TIME:20100905T050000Z
UID:http://guff.lostcarpark.com/content/writing-shadow-adams-and-pratchett
URL;VALUE=URI:http://guff.lostcarpark.com/content/writing-shadow-adams-and-pratchett
SUMMARY:Writing in the shadow of Adams and Pratchett
DESCRIPTION:<p>In the field of humorous speculative fiction\, the shadows of Douglas Adams and Terry Pratchett loom large over the genre. What influence have these two authors had on comedic science fiction and fantasy? Is it possible for authors to step out from under their shadow and find new territories for humour and the imagination?<br />
 Sunday 1400 Room 219</p>
 
END:VEVENT
BEGIN:VEVENT
DTSTAMP;VALUE=DATE-TIME:20260419T184720Z
DTSTART;VALUE=DATE-TIME:20100905T070000Z
DTEND;VALUE=DATE-TIME:20100905T080000Z
UID:http://guff.lostcarpark.com/content/build-lego-dalek-adults
URL;VALUE=URI:http://guff.lostcarpark.com/content/build-lego-dalek-adults
SUMMARY:Build a LEGO Dalek (for adults)
DESCRIPTION:<p>Learn how to build a Dalek model out of LEGO. This is a GUFF fundraiser.<br />
 James Shield\, Sue Ann Barber<br />
 Sunday 1700 Room 216</p>
 
END:VEVENT
BEGIN:VEVENT
DTSTAMP;VALUE=DATE-TIME:20260419T184720Z
DTSTART;VALUE=DATE-TIME:20100905T100000Z
DTEND;VALUE=DATE-TIME:20100905T130000Z
UID:http://guff.lostcarpark.com/content/hugo-awards-ceremony
URL;VALUE=URI:http://guff.lostcarpark.com/content/hugo-awards-ceremony
SUMMARY:Hugo Awards Ceremony
DESCRIPTION:<p>MCEC Main Plenary Hall</p>
 
END:VEVENT
BEGIN:VEVENT
DTSTAMP;VALUE=DATE-TIME:20260419T184720Z
DTSTART;VALUE=DATE-TIME:20100906T162500Z
DTEND;VALUE=DATE-TIME:20020203
UID:http://guff.lostcarpark.com/content/james-melbourne-0
URL;VALUE=URI:http://guff.lostcarpark.com/content/james-melbourne-0
SUMMARY:James in Melbourne
END:VEVENT
BEGIN:VEVENT
DTSTAMP;VALUE=DATE-TIME:20260419T184720Z
DTSTART;VALUE=DATE-TIME:20100908T203000Z
DTEND;VALUE=DATE-TIME:20100908T203000Z
UID:http://guff.lostcarpark.com/content/depart-melbourne
URL;VALUE=URI:http://guff.lostcarpark.com/content/depart-melbourne
SUMMARY:Depart Melbourne
END:VEVENT
BEGIN:VEVENT
DTSTAMP;VALUE=DATE-TIME:20260419T184720Z
DTSTART;VALUE=DATE-TIME:20100908T205000Z
DTEND;VALUE=DATE-TIME:20100908T205000Z
UID:http://guff.lostcarpark.com/content/arrive-adelaide
URL;VALUE=URI:http://guff.lostcarpark.com/content/arrive-adelaide
SUMMARY:Arrive Adelaide
END:VEVENT
BEGIN:VEVENT
DTSTAMP;VALUE=DATE-TIME:20260419T184720Z
DTSTART;VALUE=DATE-TIME:20100909T102500Z
DTEND;VALUE=DATE-TIME:20020203
UID:http://guff.lostcarpark.com/content/james-adelaide
URL;VALUE=URI:http://guff.lostcarpark.com/content/james-adelaide
SUMMARY:James in Adelaide
END:VEVENT
BEGIN:VEVENT
DTSTAMP;VALUE=DATE-TIME:20260419T184720Z
DTSTART;VALUE=DATE-TIME:20100909T111800Z
DTEND;VALUE=DATE-TIME:20020203
UID:http://guff.lostcarpark.com/content/road-trip
URL;VALUE=URI:http://guff.lostcarpark.com/content/road-trip
SUMMARY:Road trip
DESCRIPTION:<p>A bit of sight seeing in south Australia.</p>
 
END:VEVENT
BEGIN:VEVENT
DTSTAMP;VALUE=DATE-TIME:20260419T184720Z
DTSTART;VALUE=DATE-TIME:20100911T073000Z
DTEND;VALUE=DATE-TIME:20100911T073000Z
UID:http://guff.lostcarpark.com/content/guff-party-adelaide
URL;VALUE=URI:http://guff.lostcarpark.com/content/guff-party-adelaide
SUMMARY:GUFF Party - Adelaide
END:VEVENT
BEGIN:VEVENT
DTSTAMP;VALUE=DATE-TIME:20260419T184720Z
DTSTART;VALUE=DATE-TIME:20100911T202000Z
DTEND;VALUE=DATE-TIME:20100911T202000Z
UID:http://guff.lostcarpark.com/content/depart-adelaide
URL;VALUE=URI:http://guff.lostcarpark.com/content/depart-adelaide
SUMMARY:Depart Adelaide
END:VEVENT
BEGIN:VEVENT
DTSTAMP;VALUE=DATE-TIME:20260419T184720Z
DTSTART;VALUE=DATE-TIME:20100911T223500Z
DTEND;VALUE=DATE-TIME:20100911T223500Z
UID:http://guff.lostcarpark.com/content/arrive-melbourne-0
URL;VALUE=URI:http://guff.lostcarpark.com/content/arrive-melbourne-0
SUMMARY:Arrive Melbourne
END:VEVENT
BEGIN:VEVENT
DTSTAMP;VALUE=DATE-TIME:20260419T184720Z
DTSTART;VALUE=DATE-TIME:20100911T230000Z
DTEND;VALUE=DATE-TIME:20100914T100000Z
UID:http://guff.lostcarpark.com/content/james-melbourne-1
URL;VALUE=URI:http://guff.lostcarpark.com/content/james-melbourne-1
SUMMARY:James in Melbourne
END:VEVENT
BEGIN:VEVENT
DTSTAMP;VALUE=DATE-TIME:20260419T184720Z
DTSTART;VALUE=DATE-TIME:20100912T000000Z
DTEND;VALUE=DATE-TIME:20100912T070000Z
UID:http://guff.lostcarpark.com/content/melbourne-lego-user-group
URL;VALUE=URI:http://guff.lostcarpark.com/content/melbourne-lego-user-group
SUMMARY:Melbourne LEGO User Group
END:VEVENT
BEGIN:VEVENT
DTSTAMP;VALUE=DATE-TIME:20260419T184720Z
DTSTART;VALUE=DATE-TIME:20100914T121000Z
DTEND;VALUE=DATE-TIME:20100914T121000Z
UID:http://guff.lostcarpark.com/content/depart-melbourne-0
URL;VALUE=URI:http://guff.lostcarpark.com/content/depart-melbourne-0
SUMMARY:Depart Melbourne
END:VEVENT
BEGIN:VEVENT
DTSTAMP;VALUE=DATE-TIME:20260419T184720Z
DTSTART;VALUE=DATE-TIME:20100914T162000Z
DTEND;VALUE=DATE-TIME:20100914T162000Z
UID:http://guff.lostcarpark.com/content/arrive-perth
URL;VALUE=URI:http://guff.lostcarpark.com/content/arrive-perth
SUMMARY:Arrive Perth
END:VEVENT
BEGIN:VEVENT
DTSTAMP;VALUE=DATE-TIME:20260419T184720Z
DTSTART;VALUE=DATE-TIME:20100915T201300Z
DTEND;VALUE=DATE-TIME:20020203
UID:http://guff.lostcarpark.com/content/james-perth
URL;VALUE=URI:http://guff.lostcarpark.com/content/james-perth
SUMMARY:James in Perth
END:VEVENT
BEGIN:VEVENT
DTSTAMP;VALUE=DATE-TIME:20260419T184720Z
DTSTART;VALUE=DATE-TIME:20100918T110000Z
DTEND;VALUE=DATE-TIME:20100918T110000Z
UID:http://guff.lostcarpark.com/content/depart-perth
URL;VALUE=URI:http://guff.lostcarpark.com/content/depart-perth
SUMMARY:Depart Perth
END:VEVENT
BEGIN:VEVENT
DTSTAMP;VALUE=DATE-TIME:20260419T184720Z
DTSTART;VALUE=DATE-TIME:20100918T143000Z
DTEND;VALUE=DATE-TIME:20100918T143000Z
UID:http://guff.lostcarpark.com/content/arrive-melbourne-2
URL;VALUE=URI:http://guff.lostcarpark.com/content/arrive-melbourne-2
SUMMARY:Arrive Melbourne
END:VEVENT
BEGIN:VEVENT
DTSTAMP;VALUE=DATE-TIME:20260419T184720Z
DTSTART;VALUE=DATE-TIME:20100918T143000Z
DTEND;VALUE=DATE-TIME:20100918T143000Z
UID:http://guff.lostcarpark.com/content/arrive-melbourne-1
URL;VALUE=URI:http://guff.lostcarpark.com/content/arrive-melbourne-1
SUMMARY:Arrive Melbourne
END:VEVENT
BEGIN:VEVENT
DTSTAMP;VALUE=DATE-TIME:20260419T184720Z
DTSTART;VALUE=DATE-TIME:20100919T053000Z
DTEND;VALUE=DATE-TIME:20100919T053000Z
UID:http://guff.lostcarpark.com/content/depart-melbourne-1
URL;VALUE=URI:http://guff.lostcarpark.com/content/depart-melbourne-1
SUMMARY:Depart Melbourne
END:VEVENT
BEGIN:VEVENT
DTSTAMP;VALUE=DATE-TIME:20260419T184720Z
DTSTART;VALUE=DATE-TIME:20100920T044000Z
DTEND;VALUE=DATE-TIME:20100920T044000Z
UID:http://guff.lostcarpark.com/content/arrive-london
URL;VALUE=URI:http://guff.lostcarpark.com/content/arrive-london
SUMMARY:Arrive London
END:VEVENT
BEGIN:VEVENT
DTSTAMP;VALUE=DATE-TIME:20260419T184720Z
DTSTART;VALUE=DATE-TIME:20100920T075000Z
DTEND;VALUE=DATE-TIME:20100920T075000Z
UID:http://guff.lostcarpark.com/content/depart-london-0
URL;VALUE=URI:http://guff.lostcarpark.com/content/depart-london-0
SUMMARY:Depart London
END:VEVENT
BEGIN:VEVENT
DTSTAMP;VALUE=DATE-TIME:20260419T184720Z
DTSTART;VALUE=DATE-TIME:20100920T091000Z
DTEND;VALUE=DATE-TIME:20100920T091000Z
UID:http://guff.lostcarpark.com/content/arrive-dublin
URL;VALUE=URI:http://guff.lostcarpark.com/content/arrive-dublin
SUMMARY:Arrive Dublin
END:VEVENT
END:VCALENDAR
